BEGIN:VCALENDAR
VERSION:2.0
PRODID:-//ChamberMaster//Event Calendar 2.0//EN
METHOD:PUBLISH
X-PUBLISHED-TTL:P3D
REFRESH-INTERVAL:P3D
CALSCALE:GREGORIAN
BEGIN:VEVENT
DTSTART:20181016T123000Z
DTEND:20181016T213000Z
X-MICROSOFT-CDO-ALLDAYEVENT:FALSE
SUMMARY:Build a Basic Web Page
DESCRIPTION:This course is designed for learners who have little or no prior experience developing a web site and will cover two approaches to website design. First\, we'll use free web-based applications to design a site with easy drag and drop tools\, designer-made templates\, and image galleries. In addition\, we'll design web pages using HTML code and Notepad. Your new site will consist of a home page and at least three supporting pages with hyperlinks and images. This course will also cover the resources needed to publish your web page to the Internet\, such as hosting options\, free vs. paid hosting\, blogs\, acquiring domain names\, and using other online web tools.
X-ALT-DESC;FMTTYPE=text/html:This course is designed for learners who have little or no prior experience developing a web site and will cover two approaches to website design. First\, we&#39\;ll use free web-based applications to design a site with easy drag and drop tools\, designer-made templates\, and image galleries. In addition\, we&#39\;ll design web pages using HTML code and Notepad. Your new site will consist of a home page and at least three supporting pages with hyperlinks and images. This course will also cover the resources needed to publish your web page to the Internet\, such as hosting options\, free vs. paid hosting\, blogs\, acquiring domain names\, and using other online web tools.
LOCATION:University of North Georgia Professional and Continuing Education
UID:e.69.49811
SEQUENCE:3
DTSTAMP:20260424T032706Z
URL:http://dahlonegalumpkinchamber.chambermaster.com/events/details/build-a-basic-web-page-49811
END:VEVENT

END:VCALENDAR
